BEGIN:VCALENDAR
VERSION:2.0
PRODID:-//Alamo City Guards Camp #1325 - ECPv6.15.17.1//NONSGML v1.0//EN
CALSCALE:GREGORIAN
METHOD:PUBLISH
X-WR-CALNAME:Alamo City Guards Camp #1325
X-ORIGINAL-URL:https://alamocityguards.com
X-WR-CALDESC:Events for Alamo City Guards Camp #1325
REFRESH-INTERVAL;VALUE=DURATION:PT1H
X-Robots-Tag:noindex
X-PUBLISHED-TTL:PT1H
BEGIN:VTIMEZONE
TZID:America/Chicago
BEGIN:DAYLIGHT
TZOFFSETFROM:-0600
TZOFFSETTO:-0500
TZNAME:CDT
DTSTART:20250309T080000
END:DAYLIGHT
BEGIN:STANDARD
TZOFFSETFROM:-0500
TZOFFSETTO:-0600
TZNAME:CST
DTSTART:20251102T070000
END:STANDARD
BEGIN:DAYLIGHT
TZOFFSETFROM:-0600
TZOFFSETTO:-0500
TZNAME:CDT
DTSTART:20260308T080000
END:DAYLIGHT
BEGIN:STANDARD
TZOFFSETFROM:-0500
TZOFFSETTO:-0600
TZNAME:CST
DTSTART:20261101T070000
END:STANDARD
BEGIN:DAYLIGHT
TZOFFSETFROM:-0600
TZOFFSETTO:-0500
TZNAME:CDT
DTSTART:20270314T080000
END:DAYLIGHT
BEGIN:STANDARD
TZOFFSETFROM:-0500
TZOFFSETTO:-0600
TZNAME:CST
DTSTART:20271107T070000
END:STANDARD
END:VTIMEZONE
BEGIN:VEVENT
DTSTART;TZID=America/Chicago:20260507T170000
DTEND;TZID=America/Chicago:20260507T210000
DTSTAMP:20260419T195227
CREATED:20260225T185716Z
LAST-MODIFIED:20260416T205106Z
UID:9267-1778173200-1778187600@alamocityguards.com
SUMMARY:Camp Meeting: May 2026 - Guest Martha Hartzog from Hood's Texas Brigade Association
DESCRIPTION:Join Alamo City Guards Camp #1325 for an evening of Texas history and fellowship at India Palace on Fredericksburg Road in San Antonio. \nMembers and guests are invited to gather at 6:00 PM to eat and mingle before the meeting and program begin at 7:00 PM. \nOur guest speaker for the evening will be Martha Hartzog from the Hood’s Texas Brigade Association.
URL:https://alamocityguards.com/event/camp-meeting-may-2026/
LOCATION:India Palace\, 8474 Fredericksburg Rd #100\, San Antonio\, TX\, 78229\, United States
CATEGORIES:Camp Meeting
ATTACH;FMTTYPE=image/jpeg:https://alamocityguards.com/wp-content/uploads/2020/06/Confederate_Rebel_Flag.jpg-Comp-1.jpg
END:VEVENT
END:VCALENDAR