BEGIN:VCALENDAR
VERSION:2.0
PRODID:-//Alamo City Guards Camp #1325 - ECPv6.15.17.1//NONSGML v1.0//EN
CALSCALE:GREGORIAN
METHOD:PUBLISH
X-ORIGINAL-URL:https://alamocityguards.com
X-WR-CALDESC:Events for Alamo City Guards Camp #1325
REFRESH-INTERVAL;VALUE=DURATION:PT1H
X-Robots-Tag:noindex
X-PUBLISHED-TTL:PT1H
BEGIN:VTIMEZONE
TZID:America/Chicago
BEGIN:DAYLIGHT
TZOFFSETFROM:-0600
TZOFFSETTO:-0500
TZNAME:CDT
DTSTART:20200308T080000
END:DAYLIGHT
BEGIN:STANDARD
TZOFFSETFROM:-0500
TZOFFSETTO:-0600
TZNAME:CST
DTSTART:20201101T070000
END:STANDARD
BEGIN:DAYLIGHT
TZOFFSETFROM:-0600
TZOFFSETTO:-0500
TZNAME:CDT
DTSTART:20210314T080000
END:DAYLIGHT
BEGIN:STANDARD
TZOFFSETFROM:-0500
TZOFFSETTO:-0600
TZNAME:CST
DTSTART:20211107T070000
END:STANDARD
BEGIN:DAYLIGHT
TZOFFSETFROM:-0600
TZOFFSETTO:-0500
TZNAME:CDT
DTSTART:20220313T080000
END:DAYLIGHT
BEGIN:STANDARD
TZOFFSETFROM:-0500
TZOFFSETTO:-0600
TZNAME:CST
DTSTART:20221106T070000
END:STANDARD
BEGIN:DAYLIGHT
TZOFFSETFROM:-0600
TZOFFSETTO:-0500
TZNAME:CDT
DTSTART:20230312T080000
END:DAYLIGHT
BEGIN:STANDARD
TZOFFSETFROM:-0500
TZOFFSETTO:-0600
TZNAME:CST
DTSTART:20231105T070000
END:STANDARD
END:VTIMEZONE
BEGIN:VEVENT
DTSTART;TZID=America/Chicago:20220707T180000
DTEND;TZID=America/Chicago:20220707T210000
DTSTAMP:20260419T212419
CREATED:20220208T013142Z
LAST-MODIFIED:20220703T055059Z
UID:3512-1657216800-1657227600@alamocityguards.com
SUMMARY:Monthly Camp Meeting
DESCRIPTION:Our speaker will be First Lieutenant Commander\, Cody Crislip. He’ll be speaking about our new live series called ACG Chat. \nWe’re giving away a Civil War bullet. Bring a potential recruit and we’ll give you two raffle tickets to win the bullet! \nLastly\, we’ll be handing out awards to our outstanding members. Make sure you’re there to receive your award and get your photo taken for the Confederate Veteran magazine.
URL:https://alamocityguards.com/event/monthly-camp-meeting-7/
LOCATION:La Fonda Alamo Heights\, 8633 Crownhill Blvd\, San Antonio\, TX\, 78209\, United States
CATEGORIES:Camp Meeting
ATTACH;FMTTYPE=image/jpeg:https://alamocityguards.com/wp-content/uploads/2020/06/Confederate_Rebel_Flag.jpg-Comp-1.jpg
END:VEVENT
BEGIN:VEVENT
DTSTART;TZID=America/Chicago:20220602T180000
DTEND;TZID=America/Chicago:20220602T210000
DTSTAMP:20260419T212419
CREATED:20220208T012834Z
LAST-MODIFIED:20220208T012834Z
UID:3510-1654192800-1654203600@alamocityguards.com
SUMMARY:Monthly Camp Meeting
DESCRIPTION:Topic: TBD
URL:https://alamocityguards.com/event/monthly-camp-meeting-6/
LOCATION:La Fonda Alamo Heights\, 8633 Crownhill Blvd\, San Antonio\, TX\, 78209\, United States
CATEGORIES:Camp Meeting
ATTACH;FMTTYPE=image/jpeg:https://alamocityguards.com/wp-content/uploads/2020/06/Confederate_Rebel_Flag.jpg-Comp-1.jpg
END:VEVENT
BEGIN:VEVENT
DTSTART;TZID=America/Chicago:20220505T180000
DTEND;TZID=America/Chicago:20220505T210000
DTSTAMP:20260419T212419
CREATED:20220208T012615Z
LAST-MODIFIED:20220425T030920Z
UID:3508-1651773600-1651784400@alamocityguards.com
SUMMARY:Monthly Camp Meeting
DESCRIPTION:Speaker will be Sheila Randolph of the United Daughters of the Confederacy. Sheila’s topic will be “The Unlikely Freedom Rider” that ties the African American struggle for civil rights to the Confederacy\, but not in the way most people would think. \n  \nTune in on Facebook Live
URL:https://alamocityguards.com/event/monthly-camp-meeting-5/
LOCATION:La Fonda Alamo Heights\, 8633 Crownhill Blvd\, San Antonio\, TX\, 78209\, United States
CATEGORIES:Camp Meeting
ATTACH;FMTTYPE=image/jpeg:https://alamocityguards.com/wp-content/uploads/2020/06/Confederate_Rebel_Flag.jpg-Comp-1.jpg
END:VEVENT
BEGIN:VEVENT
DTSTART;TZID=America/Chicago:20220407T180000
DTEND;TZID=America/Chicago:20220407T210000
DTSTAMP:20260419T212419
CREATED:20220208T012428Z
LAST-MODIFIED:20220404T015221Z
UID:3506-1649354400-1649365200@alamocityguards.com
SUMMARY:Monthly Camp Meeting
DESCRIPTION:Speaker: Charisma Villarreal \nTopic: Gregorio Esparza and her of the Alamo Cenotaph
URL:https://alamocityguards.com/event/monthly-camp-meeting-4/
LOCATION:La Fonda Alamo Heights\, 8633 Crownhill Blvd\, San Antonio\, TX\, 78209\, United States
CATEGORIES:Camp Meeting
ATTACH;FMTTYPE=image/jpeg:https://alamocityguards.com/wp-content/uploads/2020/06/Confederate_Rebel_Flag.jpg-Comp-1.jpg
END:VEVENT
BEGIN:VEVENT
DTSTART;TZID=America/Chicago:20220303T180000
DTEND;TZID=America/Chicago:20220303T210000
DTSTAMP:20260419T212419
CREATED:20220208T012305Z
LAST-MODIFIED:20220208T012305Z
UID:3504-1646330400-1646341200@alamocityguards.com
SUMMARY:Monthly Camp Meeting
DESCRIPTION:Topic: TBD
URL:https://alamocityguards.com/event/monthly-camp-meeting-3/
LOCATION:La Fonda Alamo Heights\, 8633 Crownhill Blvd\, San Antonio\, TX\, 78209\, United States
CATEGORIES:Camp Meeting
ATTACH;FMTTYPE=image/jpeg:https://alamocityguards.com/wp-content/uploads/2020/06/Confederate_Rebel_Flag.jpg-Comp-1.jpg
END:VEVENT
BEGIN:VEVENT
DTSTART;TZID=America/Chicago:20220209T180000
DTEND;TZID=America/Chicago:20220209T210000
DTSTAMP:20260419T212419
CREATED:20220208T012113Z
LAST-MODIFIED:20220208T012113Z
UID:3502-1644429600-1644440400@alamocityguards.com
SUMMARY:Monthly Camp Meeting
DESCRIPTION:Topic: Confederate Heroes Day Dinner Debrief
URL:https://alamocityguards.com/event/monthly-camp-meeting-2/
LOCATION:La Fonda Alamo Heights\, 8633 Crownhill Blvd\, San Antonio\, TX\, 78209\, United States
CATEGORIES:Camp Meeting
ATTACH;FMTTYPE=image/jpeg:https://alamocityguards.com/wp-content/uploads/2020/06/Confederate_Rebel_Flag.jpg-Comp-1.jpg
END:VEVENT
BEGIN:VEVENT
DTSTART;TZID=America/Chicago:20220106T180000
DTEND;TZID=America/Chicago:20220106T210000
DTSTAMP:20260419T212419
CREATED:20220208T043352Z
LAST-MODIFIED:20220208T043352Z
UID:3537-1641492000-1641502800@alamocityguards.com
SUMMARY:Monthly Camp Meeting
DESCRIPTION:Our monthly camp meeting is at La Fonda Alamo Heights (**8633 Crownhill Blvd\, San Antonio\, TX 78209**)\nCome and visit! We meet at 6pm to eat and mingle\, 7pm for our meeting. Our lectures are free and always open to the public.\nWe will be discussing the upcoming Confederate Heroes Day Dinner.\nHope we see you there!
URL:https://alamocityguards.com/event/monthly-camp-meeting-12/
LOCATION:La Fonda Alamo Heights\, 8633 Crownhill Blvd\, San Antonio\, TX\, 78209\, United States
CATEGORIES:Camp Meeting
ATTACH;FMTTYPE=image/jpeg:https://alamocityguards.com/wp-content/uploads/2020/06/Confederate_Rebel_Flag.jpg-Comp-1.jpg
END:VEVENT
BEGIN:VEVENT
DTSTART;TZID=America/Chicago:20211202T180000
DTEND;TZID=America/Chicago:20211202T210000
DTSTAMP:20260419T212419
CREATED:20211120T170315Z
LAST-MODIFIED:20211120T170315Z
UID:3291-1638468000-1638478800@alamocityguards.com
SUMMARY:Camp Meeting & Elections
DESCRIPTION:We do not have a speaker for this month as it time for our annual elections. \nIf you would like to nominate yourself for an officer position\,  you must attend the meeting in person. \nTell a friend or bring a friend\, or both. \nSee you there!
URL:https://alamocityguards.com/event/camp-meeting-elections/
LOCATION:La Fonda Alamo Heights\, 8633 Crownhill Blvd\, San Antonio\, TX\, 78209\, United States
CATEGORIES:Camp Meeting
ATTACH;FMTTYPE=image/jpeg:https://alamocityguards.com/wp-content/uploads/2020/06/Confederate_Rebel_Flag.jpg-Comp-1.jpg
END:VEVENT
BEGIN:VEVENT
DTSTART;TZID=America/Chicago:20211104T180000
DTEND;TZID=America/Chicago:20211104T210000
DTSTAMP:20260419T212419
CREATED:20220208T044132Z
LAST-MODIFIED:20220208T044132Z
UID:3542-1636048800-1636059600@alamocityguards.com
SUMMARY:Monthly Camp Meeting
DESCRIPTION:Our monthly camp meeting is at La Fonda Alamo Heights (**8633 Crownhill Blvd\, San Antonio\, TX 78209**)\nCome and visit! We meet at 6pm to eat and mingle\, 7pm for our meeting. Our lectures are free and always open to the public.\nSpeaking on the Ruiz-Herrera Cemetery and Medina County Tejano Confederate history is Art Martinez de Vara\, attorney and past Mayor of Von Ormy!\nWe will be discussing the Ruiz-Herrera Cemetery Project & Tejano CSA Monument so please send ambassadors from your camps & heritage organizations!\nHope we see you there!
URL:https://alamocityguards.com/event/monthly-camp-meeting-13/
LOCATION:La Fonda Alamo Heights\, 8633 Crownhill Blvd\, San Antonio\, TX\, 78209\, United States
CATEGORIES:Camp Meeting
ATTACH;FMTTYPE=image/jpeg:https://alamocityguards.com/wp-content/uploads/2020/06/Confederate_Rebel_Flag.jpg-Comp-1.jpg
END:VEVENT
BEGIN:VEVENT
DTSTART;TZID=America/Chicago:20211007T180000
DTEND;TZID=America/Chicago:20211007T210000
DTSTAMP:20260419T212419
CREATED:20220208T044804Z
LAST-MODIFIED:20220208T044804Z
UID:3549-1633629600-1633640400@alamocityguards.com
SUMMARY:Monthly Camp Meeting
DESCRIPTION:Our monthly camp meeting is at La Fonda Alamo Heights (**8633 Crownhill Blvd\, San Antonio\, TX 78209**)\nCome and visit! We meet at 6pm to eat and mingle\, 7pm for our meeting. Our lectures are free and always open to the public.\nOur guest speaker is our very own Texas Division First Lieutenant Commander Michael Hurley with his lecture “Why I joined the SCV.”\nHope we see you there!
URL:https://alamocityguards.com/event/monthly-camp-meeting-14/
LOCATION:La Fonda Alamo Heights\, 8633 Crownhill Blvd\, San Antonio\, TX\, 78209\, United States
CATEGORIES:Camp Meeting
ATTACH;FMTTYPE=image/jpeg:https://alamocityguards.com/wp-content/uploads/2020/06/Confederate_Rebel_Flag.jpg-Comp-1.jpg
END:VEVENT
BEGIN:VEVENT
DTSTART;TZID=America/Chicago:20210902T180000
DTEND;TZID=America/Chicago:20210902T210000
DTSTAMP:20260419T212419
CREATED:20220208T045742Z
LAST-MODIFIED:20220208T045742Z
UID:3557-1630605600-1630616400@alamocityguards.com
SUMMARY:Monthly Camp Meeting
DESCRIPTION:Our monthly camp meeting is at La Fonda Alamo Heights (**8633 Crownhill Blvd\, San Antonio\, TX 78209**)\nCome and visit! We meet at 6pm to eat and mingle\, 7pm for our meeting. Our lectures are free and always open to the public.\nOur Lieutenant Commander\, Cody Crislip will be taking us on a Tour of AlamoCityGuards.com!\n**For security reasons this lecture will not be live streamed**\nMembers and friends of the camp are encouraged to bring laptop or smartphone.\nHope we see you there!
URL:https://alamocityguards.com/event/monthly-camp-meeting-15/
LOCATION:La Fonda Alamo Heights\, 8633 Crownhill Blvd\, San Antonio\, TX\, 78209\, United States
CATEGORIES:Camp Meeting
ATTACH;FMTTYPE=image/jpeg:https://alamocityguards.com/wp-content/uploads/2020/06/Confederate_Rebel_Flag.jpg-Comp-1.jpg
END:VEVENT
BEGIN:VEVENT
DTSTART;TZID=America/Chicago:20210812T180000
DTEND;TZID=America/Chicago:20210812T210000
DTSTAMP:20260419T212419
CREATED:20210730T185100Z
LAST-MODIFIED:20210730T185100Z
UID:2901-1628791200-1628802000@alamocityguards.com
SUMMARY:August Monthly Camp Meeting
DESCRIPTION:This months speaker will be Lt. Col. Roy Poole.
URL:https://alamocityguards.com/event/august-monthly-camp-meeting/
LOCATION:La Fonda Alamo Heights\, 8633 Crownhill Blvd\, San Antonio\, TX\, 78209\, United States
CATEGORIES:Camp Meeting
ATTACH;FMTTYPE=image/jpeg:https://alamocityguards.com/wp-content/uploads/2020/06/Confederate_Rebel_Flag.jpg-Comp-1.jpg
END:VEVENT
BEGIN:VEVENT
DTSTART;TZID=America/Chicago:20210701T180000
DTEND;TZID=America/Chicago:20210701T210000
DTSTAMP:20260419T212419
CREATED:20210626T042702Z
LAST-MODIFIED:20210626T042702Z
UID:2876-1625162400-1625173200@alamocityguards.com
SUMMARY:Monthly Camp Meeting
DESCRIPTION:Our presenter will be Chris Naugton speaking about August Siemering and The Siemering Lodge.
URL:https://alamocityguards.com/event/monthly-camp-meeting/
LOCATION:La Fonda Alamo Heights\, 8633 Crownhill Blvd\, San Antonio\, TX\, 78209\, United States
CATEGORIES:Camp Meeting
ATTACH;FMTTYPE=image/jpeg:https://alamocityguards.com/wp-content/uploads/2020/06/Confederate_Rebel_Flag.jpg-Comp-1.jpg
END:VEVENT
BEGIN:VEVENT
DTSTART;TZID=America/Chicago:20210506T180000
DTEND;TZID=America/Chicago:20210506T210000
DTSTAMP:20260419T212419
CREATED:20210410T194434Z
LAST-MODIFIED:20210410T194450Z
UID:2646-1620324000-1620334800@alamocityguards.com
SUMMARY:Monthly Meeting
DESCRIPTION:
URL:https://alamocityguards.com/event/monthly-meeting-2/
LOCATION:La Fonda Alamo Heights\, 8633 Crownhill Blvd\, San Antonio\, TX\, 78209\, United States
CATEGORIES:Camp Meeting
ATTACH;FMTTYPE=image/jpeg:https://alamocityguards.com/wp-content/uploads/2020/06/Confederate_Rebel_Flag.jpg-Comp-1.jpg
END:VEVENT
BEGIN:VEVENT
DTSTART;TZID=America/Chicago:20210401T180000
DTEND;TZID=America/Chicago:20210401T210000
DTSTAMP:20260419T212419
CREATED:20210314T002429Z
LAST-MODIFIED:20210314T002538Z
UID:2519-1617300000-1617310800@alamocityguards.com
SUMMARY:Monthly Meeting
DESCRIPTION:No joke\, our monthly meeting will be held on April 1st! Come join us as our very own Kevin Knippa gives us a lecture on some guns!
URL:https://alamocityguards.com/event/monthly-meeting/
LOCATION:La Fonda Alamo Heights\, 8633 Crownhill Blvd\, San Antonio\, TX\, 78209\, United States
CATEGORIES:Camp Meeting
ATTACH;FMTTYPE=image/jpeg:https://alamocityguards.com/wp-content/uploads/2020/06/Confederate_Rebel_Flag.jpg-Comp-1.jpg
END:VEVENT
END:VCALENDAR