BEGIN:VCALENDAR
VERSION:2.0
PRODID:-//Alamo City Guards Camp #1325 - ECPv6.15.17.1//NONSGML v1.0//EN
CALSCALE:GREGORIAN
METHOD:PUBLISH
X-WR-CALNAME:Alamo City Guards Camp #1325
X-ORIGINAL-URL:https://alamocityguards.com
X-WR-CALDESC:Events for Alamo City Guards Camp #1325
REFRESH-INTERVAL;VALUE=DURATION:PT1H
X-Robots-Tag:noindex
X-PUBLISHED-TTL:PT1H
BEGIN:VTIMEZONE
TZID:America/Chicago
BEGIN:DAYLIGHT
TZOFFSETFROM:-0600
TZOFFSETTO:-0500
TZNAME:CDT
DTSTART:20200308T080000
END:DAYLIGHT
BEGIN:STANDARD
TZOFFSETFROM:-0500
TZOFFSETTO:-0600
TZNAME:CST
DTSTART:20201101T070000
END:STANDARD
BEGIN:DAYLIGHT
TZOFFSETFROM:-0600
TZOFFSETTO:-0500
TZNAME:CDT
DTSTART:20210314T080000
END:DAYLIGHT
BEGIN:STANDARD
TZOFFSETFROM:-0500
TZOFFSETTO:-0600
TZNAME:CST
DTSTART:20211107T070000
END:STANDARD
BEGIN:DAYLIGHT
TZOFFSETFROM:-0600
TZOFFSETTO:-0500
TZNAME:CDT
DTSTART:20220313T080000
END:DAYLIGHT
BEGIN:STANDARD
TZOFFSETFROM:-0500
TZOFFSETTO:-0600
TZNAME:CST
DTSTART:20221106T070000
END:STANDARD
BEGIN:DAYLIGHT
TZOFFSETFROM:-0600
TZOFFSETTO:-0500
TZNAME:CDT
DTSTART:20230312T080000
END:DAYLIGHT
BEGIN:STANDARD
TZOFFSETFROM:-0500
TZOFFSETTO:-0600
TZNAME:CST
DTSTART:20231105T070000
END:STANDARD
END:VTIMEZONE
BEGIN:VEVENT
DTSTART;TZID=America/Chicago:20220319T190000
DTEND;TZID=America/Chicago:20220319T203000
DTSTAMP:20260419T195331
CREATED:20220419T024130Z
LAST-MODIFIED:20220419T024130Z
UID:3846-1647716400-1647721800@alamocityguards.com
SUMMARY:Movie Night: Yellowneck
DESCRIPTION:A disgraced Confederate Colonel who has deserted his command flees to the Everglades where he encounters a disparate group of four other Southern deserters. Togethher they struggle to find their way out of the swamp and resolve their own personal demons under the eyes of hostile Seminoles as they battle to survive the elements and each other. -IMDb\n\n\nTonight we have 2 excellent southern movies for you!\n\n\n\nWe’re raising money to save\, commission or rebuild southern monuments across Dixie! Here are three very important missions happening across the Confederation.\n\n\n\nSons of Confederate Veterans – Alamo City Guards Camp #1325 Commissioning quite possibly the first monument to the Tejano Confederate Soldier.\nhttps://alamocityguards.com/tejano-memorial-statue/\n\n\n\nGordonsville Grays SCV Camp #2301 is commissioning a 21′ Robert E. Lee based on the sculpture that was desecrated by Ralph Northam\nleeridesagain.com/\n\n\n\nCol. Allen R. Witt Camp #615 Sons of Confederate Veterans is building a first of its kind Confederate memorial plaza.\n615plaza.alamocityguards.com/\n\n\n\n#twenty61 #monumentsacrossdixie #alamocityguards1325 #Gordonsvillegraysscv2301 #ColAllenRWittcamp615
URL:https://alamocityguards.com/event/movie-night-yellowneck-3/
CATEGORIES:Movie Night
ATTACH;FMTTYPE=image/jpeg:https://alamocityguards.com/wp-content/uploads/2022/02/217020709_4272706216101716_6003594955265209052_n.jpg
END:VEVENT
BEGIN:VEVENT
DTSTART;TZID=America/Chicago:20220318T203000
DTEND;TZID=America/Chicago:20220318T223000
DTSTAMP:20260419T195331
CREATED:20220419T024440Z
LAST-MODIFIED:20220419T024440Z
UID:3848-1647635400-1647642600@alamocityguards.com
SUMMARY:Movie Night: It's a Joke Son & Colonel Effingham's Raid
DESCRIPTION:On the eve of America’s entry in World War II\, a colonel retired to his small Southern town\, and discovers that there is a plan afoot to tear down Confederate Monument Square. He begins a campaign to rally the townspeople to save the square. (Colonel Effingham’s Raid\, 1940) -IMDB\n\n\n\nTonight we have 2 excellent southern movies for you!\n\n\n\nWe’re raising money to save\, commission or rebuild southern monuments across Dixie! Here are three very important missions happening across the Confederation.\n\n\n\nSons of Confederate Veterans – Alamo City Guards Camp #1325 Commissioning quite possibly the first monument to the Tejano Confederate Soldier.\nhttps://alamocityguards.com/tejano-memorial-statue/\n\n\n\nGordonsville Grays SCV Camp #2301 is commissioning a 21′ Robert E. Lee based on the sculpture that was desecrated by Ralph Northam\nleeridesagain.com/\n\n\n\nCol. Allen R. Witt Camp #615 Sons of Confederate Veterans is building a first of its kind Confederate memorial plaza.\n615plaza.alamocityguards.com/\n\n\n\n#twenty61 #monumentsacrossdixie #alamocityguards1325 #Gordonsvillegraysscv2301 #ColAllenRWittcamp615
URL:https://alamocityguards.com/event/movie-night-its-a-joke-son-colonel-effinghams-raid/
CATEGORIES:Movie Night
ATTACH;FMTTYPE=image/jpeg:https://alamocityguards.com/wp-content/uploads/2022/04/MAD-COVER-PHOTO-Double-feature-A.jpg
END:VEVENT
BEGIN:VEVENT
DTSTART;TZID=America/Chicago:20220316T210000
DTEND;TZID=America/Chicago:20220316T223000
DTSTAMP:20260419T195331
CREATED:20220419T024748Z
LAST-MODIFIED:20220419T024748Z
UID:3851-1647464400-1647469800@alamocityguards.com
SUMMARY:Movie Night: Yellowneck
DESCRIPTION:Raising money for southern Monuments Across Dixie. Here are three very important missions happening across the Confederation.\n\n\n\nSons of Confederate Veterans – Alamo City Guards Camp #1325 Commissioning quite possibly the first monument to the Tejano Confederate Soldier.\nhttps://alamocityguards.com/tejano-memorial-statue/\n\n\n\nGordonsville Grays SCV Camp #2301 is commissioning a 21′ Robert E. Lee based on the sculpture that was desecrated by Ralph Northam\nleeridesagain.com/\n\n\n\nCol. Allen R. Witt Camp #615 Sons of Confederate Veterans is building a first of its kind Confederate memorial plaza.\n615plaza.alamocityguards.com/\n\n\n\n#twenty61
URL:https://alamocityguards.com/event/movie-night-yellowneck-4/
CATEGORIES:Movie Night
ATTACH;FMTTYPE=image/jpeg:https://alamocityguards.com/wp-content/uploads/2022/03/mad_overlay-Santa-fe-trail.jpg
END:VEVENT
BEGIN:VEVENT
DTSTART;TZID=America/Chicago:20220313T190000
DTEND;TZID=America/Chicago:20220313T203000
DTSTAMP:20260419T195331
CREATED:20220419T025202Z
LAST-MODIFIED:20220419T025202Z
UID:3853-1647198000-1647203400@alamocityguards.com
SUMMARY:Movie Night: Abraham Lincoln
DESCRIPTION:Raising money for southern Monuments Across Dixie. Here are three very important missions happening across the Confederation.\n\n\n\nSons of Confederate Veterans – Alamo City Guards Camp #1325 Quite possibly the first monument to the Tejano Confederate Soldier.\nhttps://alamocityguards.com/tejano-memorial-statue/\n\n\n\nGordonsville Grays SCV Camp #2301 is commissioning a 21′ Robert E. Lee based on the sculpture that was desecrated by Ralph Northam\nleeridesagain.com/\n\n\n\nCol. Allen R. Witt Camp #615 Sons of Confederate Veterans is building a first of its kind Confederate memorial plaza.\n615plaza.alamocityguards.com/
URL:https://alamocityguards.com/event/movie-night-abraham-lincoln/
CATEGORIES:Movie Night
ATTACH;FMTTYPE=image/jpeg:https://alamocityguards.com/wp-content/uploads/2022/04/MAD-Splash-scaled.jpg
END:VEVENT
BEGIN:VEVENT
DTSTART;TZID=America/Chicago:20211006T202000
DTEND;TZID=America/Chicago:20211006T220000
DTSTAMP:20260419T195331
CREATED:20220208T045004Z
LAST-MODIFIED:20220208T045004Z
UID:3551-1633551600-1633557600@alamocityguards.com
SUMMARY:Movie Night - Judge Priest
DESCRIPTION:Alamo City Guards Camp #1325 presents Movie Night! Tonight we’re watching Judge Priest\, a 1934 black and white film starring Will Rogers.\nJudge Priest\, a proud Confederate veteran\, uses common sense and considerable humanity to dispense justice in a small town in the Post-Bellum Kentucky.\nA huge thanks and shout out to our official sponsor Monuments Across Dixie for their countless contributions to the South!\nTune in December 29th when we screen John Wayne’s THE UNDEFEATED.
URL:https://alamocityguards.com/event/movie-night-judge-priest/
LOCATION:Facebook
CATEGORIES:Movie Night,Social Event
ATTACH;FMTTYPE=image/png:https://alamocityguards.com/wp-content/uploads/2021/04/MovieNight_Horizontal.png
END:VEVENT
BEGIN:VEVENT
DTSTART;TZID=America/Chicago:20210728T190000
DTEND;TZID=America/Chicago:20210728T210000
DTSTAMP:20260419T195331
CREATED:20220208T050524Z
LAST-MODIFIED:20220208T050524Z
UID:3559-1627498800-1627506000@alamocityguards.com
SUMMARY:Movie Night - Yellowneck
DESCRIPTION:Huge thanks to our official sponsor\, Monuments Across Dixie!\nhttps://bethemonument.com/\nMovie Night is a quarterly event hosted by the Alamo City Guards to connect with the general public through education and genealogical assistance.\nJuly’s feature is YELLOWNECK. Come enjoy this great flick with us! July 28th 7PM CST\nWe are also be raising awareness for the SCV General Nathan Bedford Forrest re-interment fund. Make a contribution below;\nhttps://scv.org/paypal-donations/
URL:https://alamocityguards.com/event/movie-night-yellowneck-2/
LOCATION:Facebook
CATEGORIES:Movie Night
ATTACH;FMTTYPE=image/jpeg:https://alamocityguards.com/wp-content/uploads/2022/02/217020709_4272706216101716_6003594955265209052_n.jpg
END:VEVENT
END:VCALENDAR