BEGIN:VCALENDAR
VERSION:2.0
PRODID:-//Alamo City Guards Camp #1325 - ECPv6.15.17.1//NONSGML v1.0//EN
CALSCALE:GREGORIAN
METHOD:PUBLISH
X-WR-CALNAME:Alamo City Guards Camp #1325
X-ORIGINAL-URL:https://alamocityguards.com
X-WR-CALDESC:Events for Alamo City Guards Camp #1325
REFRESH-INTERVAL;VALUE=DURATION:PT1H
X-Robots-Tag:noindex
X-PUBLISHED-TTL:PT1H
BEGIN:VTIMEZONE
TZID:America/Chicago
BEGIN:DAYLIGHT
TZOFFSETFROM:-0600
TZOFFSETTO:-0500
TZNAME:CDT
DTSTART:20220313T080000
END:DAYLIGHT
BEGIN:STANDARD
TZOFFSETFROM:-0500
TZOFFSETTO:-0600
TZNAME:CST
DTSTART:20221106T070000
END:STANDARD
BEGIN:DAYLIGHT
TZOFFSETFROM:-0600
TZOFFSETTO:-0500
TZNAME:CDT
DTSTART:20230312T080000
END:DAYLIGHT
BEGIN:STANDARD
TZOFFSETFROM:-0500
TZOFFSETTO:-0600
TZNAME:CST
DTSTART:20231105T070000
END:STANDARD
BEGIN:DAYLIGHT
TZOFFSETFROM:-0600
TZOFFSETTO:-0500
TZNAME:CDT
DTSTART:20240310T080000
END:DAYLIGHT
BEGIN:STANDARD
TZOFFSETFROM:-0500
TZOFFSETTO:-0600
TZNAME:CST
DTSTART:20241103T070000
END:STANDARD
END:VTIMEZONE
BEGIN:VEVENT
DTSTART;TZID=America/Chicago:20230930T100000
DTEND;TZID=America/Chicago:20230930T190000
DTSTAMP:20260422T103058
CREATED:20230926T212135Z
LAST-MODIFIED:20230926T212135Z
UID:7163-1696068000-1696100400@alamocityguards.com
SUMMARY:Flautas Festival 2023
DESCRIPTION:This is not a gentle request; it’s a battle cry for your commitment and action. The Flauta Festival is upon us\, and we’re presented with a chance to support our camp\, recruit new blood\, and prove our worth. If you’re not there\, you’re letting us down. \n  \n \n  \n\n\n\nWhy your presence matters: \nCamp Support: We’re setting up a battleground\, a table showcasing Texas history and our camp’s legacy. Your absence weakens our cause\, your presence strengthens it. \nRecruitment Blitz: The festival is where warriors are born. We need you to recruit fiercely\, to find those who bleed the same passion for Confederate history and community spirit. \nUnity in Action: This is the crucible where we forge our unity. Stand shoulder to shoulder with your comrades; let’s demonstrate our unwavering resolve. \nIf you’re not ready to embrace this opportunity\, to stand up for our camp\, and to bring new warriors into our ranks\, then how effective can you be as a member? \nMark your calendars\, spread the word\, and let’s make a thunderous impact at the Flauta Festival. We’re not here to fade away; we’re here to conquer and thrive. \nYour presence means a lot to us. Join in to support\, recruit\, and showcase the strength of our camp. Stand with us and make a positive impact together.\n\n\n\n 
URL:https://alamocityguards.com/event/flautas-festival-2023/
LOCATION:Flautas Festival\, 7701 FM 1346\, San Antonio\, TX\, 78220\, United States
CATEGORIES:Recruitment Event
ATTACH;FMTTYPE=image/jpeg:https://alamocityguards.com/wp-content/uploads/2023/09/flautas-festival-header.jpg
ORGANIZER;CN="Flautas Festival":MAILTO:flautasfestsa@outlook.com
END:VEVENT
END:VCALENDAR