BEGIN:VCALENDAR
VERSION:2.0
PRODID:-//Alamo City Guards Camp #1325 - ECPv6.15.17.1//NONSGML v1.0//EN
CALSCALE:GREGORIAN
METHOD:PUBLISH
X-WR-CALNAME:Alamo City Guards Camp #1325
X-ORIGINAL-URL:https://alamocityguards.com
X-WR-CALDESC:Events for Alamo City Guards Camp #1325
REFRESH-INTERVAL;VALUE=DURATION:PT1H
X-Robots-Tag:noindex
X-PUBLISHED-TTL:PT1H
BEGIN:VTIMEZONE
TZID:America/Chicago
BEGIN:DAYLIGHT
TZOFFSETFROM:-0600
TZOFFSETTO:-0500
TZNAME:CDT
DTSTART:20220313T080000
END:DAYLIGHT
BEGIN:STANDARD
TZOFFSETFROM:-0500
TZOFFSETTO:-0600
TZNAME:CST
DTSTART:20221106T070000
END:STANDARD
BEGIN:DAYLIGHT
TZOFFSETFROM:-0600
TZOFFSETTO:-0500
TZNAME:CDT
DTSTART:20230312T080000
END:DAYLIGHT
BEGIN:STANDARD
TZOFFSETFROM:-0500
TZOFFSETTO:-0600
TZNAME:CST
DTSTART:20231105T070000
END:STANDARD
BEGIN:DAYLIGHT
TZOFFSETFROM:-0600
TZOFFSETTO:-0500
TZNAME:CDT
DTSTART:20240310T080000
END:DAYLIGHT
BEGIN:STANDARD
TZOFFSETFROM:-0500
TZOFFSETTO:-0600
TZNAME:CST
DTSTART:20241103T070000
END:STANDARD
END:VTIMEZONE
BEGIN:VEVENT
DTSTART;VALUE=DATE:20230422
DTEND;VALUE=DATE:20230423
DTSTAMP:20260423T055957
CREATED:20230422T214347Z
LAST-MODIFIED:20230422T214347Z
UID:6712-1682121600-1682207999@alamocityguards.com
SUMMARY:2023 Gainesville Medal of Honor Parade
DESCRIPTION:Come celebrate as the entire town turns up to welcome and support the Medal of Honor Recipients and show their American pride! \nThe parade will take place at 10:00AM on California Street starting at Depot Lane and heading west to Weaver Street.
URL:https://alamocityguards.com/event/2023-gainesville-medal-of-honor-parade/
LOCATION:Downtown Gainesville\, Depot Lane\, Gainesville\, TX\, 79240\, United States
CATEGORIES:Social Event
ATTACH;FMTTYPE=image/png:https://alamocityguards.com/wp-content/uploads/2023/04/mohhc_logo_banner.png
END:VEVENT
BEGIN:VEVENT
DTSTART;TZID=America/Chicago:20230423T140000
DTEND;TZID=America/Chicago:20230423T170000
DTSTAMP:20260423T055957
CREATED:20230422T215529Z
LAST-MODIFIED:20230422T215821Z
UID:6718-1682258400-1682269200@alamocityguards.com
SUMMARY:Wreath Laying Ceremony
DESCRIPTION:The Sons of Confederate Veterans Walker’s greyhounds Camp #2339\, Tyler\, Texas & The United Daughters of the Confederacy Mollie Moore Davis #217\, Tyler\, Texas Invites you to attend a wreath laying ceremony before the Confederate Monument honoring the fallen Confederate soldier laid to rest at Oakwood Cemetery.
URL:https://alamocityguards.com/event/wreath-laying-ceremony/
LOCATION:Oakwood Cemetery\, W Oakwood St\, Tyler\, TX\, 75702\, United States
CATEGORIES:Social Event
ATTACH;FMTTYPE=image/png:https://alamocityguards.com/wp-content/uploads/2023/04/scv_nat_logo_banner-1.png
END:VEVENT
BEGIN:VEVENT
DTSTART;TZID=America/Chicago:20230429T170000
DTEND;TZID=America/Chicago:20230429T220000
DTSTAMP:20260423T055957
CREATED:20230422T222006Z
LAST-MODIFIED:20230422T222049Z
UID:6724-1682787600-1682805600@alamocityguards.com
SUMMARY:12th Annual R.E. Lee Camp 239 Confederate Heritage Banquet
DESCRIPTION:Special Guest Speaker\, Author\, Publisher and Historian John J. Dwyer will be presenting “The War Between the States – Americas Uncivil War” \nGreat food\, fellowship\, photo booth\, 50/50. Live & Silent Auctions. \n  \nBusiness Casual Dress or Uniforms Requested \nTicket Sales End April 16th\, Order yours today as space is limited! \nCash\, Check & Credit Card \nMake checks payable to: R.E. Lee Camp 239 \n 
URL:https://alamocityguards.com/event/12th-annual-r-e-lee-camp-239-confederate-heritage-banquet/
LOCATION:Splash Dayz Baunquet Room\, 8905 Clifford St.\, White Settlement\, TX\, 76108\, United States
CATEGORIES:Social Event
ATTACH;FMTTYPE=image/png:https://alamocityguards.com/wp-content/uploads/2023/04/12thannreleebanquet_banner.png
ORGANIZER;CN="R.E. Lee Camp 239":MAILTO:adjutantcamp239@yahoo.com
END:VEVENT
BEGIN:VEVENT
DTSTART;TZID=America/Chicago:20230430T110000
DTEND;TZID=America/Chicago:20230430T130000
DTSTAMP:20260423T055957
CREATED:20230422T212609Z
LAST-MODIFIED:20230422T212609Z
UID:6708-1682852400-1682859600@alamocityguards.com
SUMMARY:Historic Cemetery Decoration Day
DESCRIPTION:April 30th 2023 (Sunday) Historic Cemetery Decoration Day: 11 AM Join the Hermann Sons Siemering Lodge\, Daughters of the American Revolution and the Alamo City Guards Camp 1325 at the Hermann Sons Cemetery\, 401-499 S New Braunfels Ave\, San Antonio\, TX 78203
URL:https://alamocityguards.com/event/historic-cemetery-decoration-day/
LOCATION:Hermann Sons Cemetery\, 401-499 S New Braunfels Ave\, San Antonio\, TX\, 78203\, United States
CATEGORIES:Social Event
ATTACH;FMTTYPE=image/jpeg:https://alamocityguards.com/wp-content/uploads/2020/06/Confederate_Rebel_Flag.jpg-Comp-1.jpg
END:VEVENT
END:VCALENDAR