BEGIN:VCALENDAR
VERSION:2.0
PRODID:-//Alamo City Guards Camp #1325 - ECPv6.15.17.1//NONSGML v1.0//EN
CALSCALE:GREGORIAN
METHOD:PUBLISH
X-ORIGINAL-URL:https://alamocityguards.com
X-WR-CALDESC:Events for Alamo City Guards Camp #1325
REFRESH-INTERVAL;VALUE=DURATION:PT1H
X-Robots-Tag:noindex
X-PUBLISHED-TTL:PT1H
BEGIN:VTIMEZONE
TZID:America/Chicago
BEGIN:DAYLIGHT
TZOFFSETFROM:-0600
TZOFFSETTO:-0500
TZNAME:CDT
DTSTART:20210314T080000
END:DAYLIGHT
BEGIN:STANDARD
TZOFFSETFROM:-0500
TZOFFSETTO:-0600
TZNAME:CST
DTSTART:20211107T070000
END:STANDARD
BEGIN:DAYLIGHT
TZOFFSETFROM:-0600
TZOFFSETTO:-0500
TZNAME:CDT
DTSTART:20220313T080000
END:DAYLIGHT
BEGIN:STANDARD
TZOFFSETFROM:-0500
TZOFFSETTO:-0600
TZNAME:CST
DTSTART:20221106T070000
END:STANDARD
BEGIN:DAYLIGHT
TZOFFSETFROM:-0600
TZOFFSETTO:-0500
TZNAME:CDT
DTSTART:20230312T080000
END:DAYLIGHT
BEGIN:STANDARD
TZOFFSETFROM:-0500
TZOFFSETTO:-0600
TZNAME:CST
DTSTART:20231105T070000
END:STANDARD
END:VTIMEZONE
BEGIN:VEVENT
DTSTART;VALUE=DATE:20220129
DTEND;VALUE=DATE:20220130
DTSTAMP:20260423T034058
CREATED:20210827T004114Z
LAST-MODIFIED:20211223T174054Z
UID:2937-1643414400-1643500799@alamocityguards.com
SUMMARY:2022 Confederate Heroes Day Dinner
DESCRIPTION:2022 Confederate Heroes Day DinnerPresented by Alamo City Guards Camp #1325 \nActivities\n\nHeadlining Guest Speaker: Donald S Frazier\, the author\, historian and director of the Texas Center at Schreiner University.\nEntertainment by Comic of the Confederacy Marc Mabrito\nMOS&B Sul Ross Chapter #184: Ceremonial Missing Man Table\nDinner (Southern Favorites with a Texas Twist)\nAuction (Historic Relics\, Replicas\, Art\, Literature\, and more)\nJohn Wilkes Photo Booth (Free with entry)\nWar Between the States Trivia (Hosted by James Davenport)\n\nOptional Activities\n\nPrivate After Hours Alamo Tour (Day before event: Click here)\nSan Antonio Museum of Art (built by a Confederate Veteran)\nCasa Navarro: Home of the Confederate Statesman Jose Antonio Navarro\nTour of The Confederate Cemetery #6\nHorse-drawn carriage rides\n\nAll proceeds will go towards our Ruiz-Herrera Cemetery Restoration and Preservation Project\, \nHotels \nDinner Menu\nSouthern Favorites with a Texas Twist\nMeat: \nRoast Turkey \nGlazed Ham \nShrimp & Grits \nRotisserie Chicken \nSecession Stew \nChicken & Dumplings \nPork Loin \nPulled Pork \nBuffet: \nBaked beans \nGreen beans \nMashed potatoes \nHominy \nButter bean w/ molasses \nWhite rice \nSalad \nSpecialty Sides: \nHoppin’ John \nSugar cane glazed carrots \nSmoked Corn Relish \nDessert: \nGeorgia Peach Cobbler \nJefferson Davis Buttermilk Pie \nPecan Pie \nBreads: \nDinner Rolls \nCathead Biscuits \nCarolina Corn Bread \nDrinks: \nIced Tea \nSweet Tea \nLemonade \nMilk \nButtermilk \nCoffee \nAppetizers: \nGoobers \nPickles \n Cheese Tray \nPecans \nHoe Cakes \nReserve your spot now!\nBuy Tickets
URL:https://alamocityguards.com/event/2022-confederate-heros-day-dinner/
LOCATION:Hermann Sons Lodge\, 525 S St Marys\, San Antonio\, TX\, 78205\, United States
CATEGORIES:FeatureEvent1,Social Event
ATTACH;FMTTYPE=image/png:https://alamocityguards.com/wp-content/uploads/2021/08/CHDD2022-graphic-11-heros.png
END:VEVENT
END:VCALENDAR