BEGIN:VCALENDAR
VERSION:2.0
PRODID:-//Alamo City Guards Camp #1325 - ECPv6.15.17.1//NONSGML v1.0//EN
CALSCALE:GREGORIAN
METHOD:PUBLISH
X-WR-CALNAME:Alamo City Guards Camp #1325
X-ORIGINAL-URL:https://alamocityguards.com
X-WR-CALDESC:Events for Alamo City Guards Camp #1325
REFRESH-INTERVAL;VALUE=DURATION:PT1H
X-Robots-Tag:noindex
X-PUBLISHED-TTL:PT1H
BEGIN:VTIMEZONE
TZID:America/Chicago
BEGIN:DAYLIGHT
TZOFFSETFROM:-0600
TZOFFSETTO:-0500
TZNAME:CDT
DTSTART:20220313T080000
END:DAYLIGHT
BEGIN:STANDARD
TZOFFSETFROM:-0500
TZOFFSETTO:-0600
TZNAME:CST
DTSTART:20221106T070000
END:STANDARD
BEGIN:DAYLIGHT
TZOFFSETFROM:-0600
TZOFFSETTO:-0500
TZNAME:CDT
DTSTART:20230312T080000
END:DAYLIGHT
BEGIN:STANDARD
TZOFFSETFROM:-0500
TZOFFSETTO:-0600
TZNAME:CST
DTSTART:20231105T070000
END:STANDARD
BEGIN:DAYLIGHT
TZOFFSETFROM:-0600
TZOFFSETTO:-0500
TZNAME:CDT
DTSTART:20240310T080000
END:DAYLIGHT
BEGIN:STANDARD
TZOFFSETFROM:-0500
TZOFFSETTO:-0600
TZNAME:CST
DTSTART:20241103T070000
END:STANDARD
END:VTIMEZONE
BEGIN:VEVENT
DTSTART;VALUE=DATE:20230422
DTEND;VALUE=DATE:20230423
DTSTAMP:20260423T071800
CREATED:20230422T214347Z
LAST-MODIFIED:20230422T214347Z
UID:6712-1682121600-1682207999@alamocityguards.com
SUMMARY:2023 Gainesville Medal of Honor Parade
DESCRIPTION:Come celebrate as the entire town turns up to welcome and support the Medal of Honor Recipients and show their American pride! \nThe parade will take place at 10:00AM on California Street starting at Depot Lane and heading west to Weaver Street.
URL:https://alamocityguards.com/event/2023-gainesville-medal-of-honor-parade/
LOCATION:Downtown Gainesville\, Depot Lane\, Gainesville\, TX\, 79240\, United States
CATEGORIES:Social Event
ATTACH;FMTTYPE=image/png:https://alamocityguards.com/wp-content/uploads/2023/04/mohhc_logo_banner.png
END:VEVENT
END:VCALENDAR