BEGIN:VCALENDAR
VERSION:2.0
PRODID:-//Alamo City Guards Camp #1325 - ECPv6.15.17.1//NONSGML v1.0//EN
CALSCALE:GREGORIAN
METHOD:PUBLISH
X-WR-CALNAME:Alamo City Guards Camp #1325
X-ORIGINAL-URL:https://alamocityguards.com
X-WR-CALDESC:Events for Alamo City Guards Camp #1325
REFRESH-INTERVAL;VALUE=DURATION:PT1H
X-Robots-Tag:noindex
X-PUBLISHED-TTL:PT1H
BEGIN:VTIMEZONE
TZID:America/Chicago
BEGIN:DAYLIGHT
TZOFFSETFROM:-0600
TZOFFSETTO:-0500
TZNAME:CDT
DTSTART:20230312T080000
END:DAYLIGHT
BEGIN:STANDARD
TZOFFSETFROM:-0500
TZOFFSETTO:-0600
TZNAME:CST
DTSTART:20231105T070000
END:STANDARD
BEGIN:DAYLIGHT
TZOFFSETFROM:-0600
TZOFFSETTO:-0500
TZNAME:CDT
DTSTART:20240310T080000
END:DAYLIGHT
BEGIN:STANDARD
TZOFFSETFROM:-0500
TZOFFSETTO:-0600
TZNAME:CST
DTSTART:20241103T070000
END:STANDARD
BEGIN:DAYLIGHT
TZOFFSETFROM:-0600
TZOFFSETTO:-0500
TZNAME:CDT
DTSTART:20250309T080000
END:DAYLIGHT
BEGIN:STANDARD
TZOFFSETFROM:-0500
TZOFFSETTO:-0600
TZNAME:CST
DTSTART:20251102T070000
END:STANDARD
BEGIN:DAYLIGHT
TZOFFSETFROM:-0600
TZOFFSETTO:-0500
TZNAME:CDT
DTSTART:20260308T080000
END:DAYLIGHT
BEGIN:STANDARD
TZOFFSETFROM:-0500
TZOFFSETTO:-0600
TZNAME:CST
DTSTART:20261101T070000
END:STANDARD
END:VTIMEZONE
BEGIN:VEVENT
DTSTART;VALUE=DATE:20240419
DTEND;VALUE=DATE:20240422
DTSTAMP:20260423T063112
CREATED:20240309T045324Z
LAST-MODIFIED:20240309T061142Z
UID:7319-1713484800-1713743999@alamocityguards.com
SUMMARY:Picnic at Blanco State Park
DESCRIPTION:Get ready for an unforgettable weekend getaway at Blanco State Park! On April 19th through the 21st\, Alamo City Guards Camp #1325 is taking over in style for the Texas Division April picnic. We’ve locked in two cabins for two epic nights on April 19th and April 20th\, so gear up for a blast! \nLocation:Blanco State Park\, 101 Park Road 23\, Blanco\, TX 78606. \nConvenient Drive: Just 1 hour from SA and Austin\, 2 hours from Waco\, 3.5 hours from Houston\, and 4 hours from Dallas. \nExplore the Beauty: Nestled in the Texas Hill Country\, this park is a springtime paradise. Hiking\, fishing\, bird watching – the options are endless! \nCamping Extravaganza: Camping and RV Hook Ups available – immerse yourself in the great outdoors. Don’t forget\, the historic CCC-built Picnic Pavilion is perched by the Blanco River. \nPotluck Paradise: Bring your favorite dish for a good ol’ potluck at the Pavilion. The kitchen’s equipped with a stove\, refrigerator\, and a massive BBQ grill. \nRSVP Reminder: Whether you’re crashing in the cabins or joining for the Saturday picnic\, mark it on your RSVP. \n  \nOh\, and there’s a $5.00 entrance fee (kids under 12 are free) – totally worth the adventure that awaits! See you there!
URL:https://alamocityguards.com/event/picnic-at-blanco-state-park/
LOCATION:Blanco State Park\, 101 Park Rd 23\, Blanco\, TX\, 78606\, United States
CATEGORIES:Social Event
ATTACH;FMTTYPE=image/png:https://alamocityguards.com/wp-content/uploads/2024/03/received_338078165853715.png
END:VEVENT
BEGIN:VEVENT
DTSTART;TZID=America/Chicago:20240427T090000
DTEND;TZID=America/Chicago:20240427T180000
DTSTAMP:20260423T063112
CREATED:20240306T051252Z
LAST-MODIFIED:20240306T051429Z
UID:7289-1714208400-1714240800@alamocityguards.com
SUMMARY:King Williams Parade
DESCRIPTION:Join the Alamo City Guards as we march in the King William Fair Parade\, a festive celebration of San Antonio’s culture and history! Whether you want to march with us or cheer us on from the sidelines\, we would love to see you there and share this fun experience with our community! \nIt is a festive celebration of San Antonio’s culture and history that takes place every year during Fiesta. The parade features colorful floats\, marching bands\, dancers\, and performers that showcase the timeline of San Antonio’s Fiesta tradition\, which dates back to 1891. The parade route is 1.5 miles long and lasts approximately 90 minutes. The parade is one of the highlights of the King William Fair\, which also includes food and drink booths\, a Kids Kingdom area\, and live entertainment across 15 residential blocks. The King William Fair is the primary fundraising event for the King William Association\, a non-profit organization that works to preserve and protect the oldest residential historic district in Texas and promote the unique cultural heritage of San Antonio. The King William Fair Parade is a fun and family-friendly event that attracts approximately 35\,000 visitors every year.
URL:https://alamocityguards.com/event/king-williams-parade/
LOCATION:King William’s District\, 122 Madison St\, San Antonio\, TX\, 78204\, United States
CATEGORIES:Parades,Social Event
ATTACH;FMTTYPE=image/png:https://alamocityguards.com/wp-content/uploads/2024/03/king_william_fair_banner.png
ORGANIZER;CN="King Williams Association":MAILTO:info@ourkwa.org
END:VEVENT
BEGIN:VEVENT
DTSTART;TZID=America/Chicago:20240606T173000
DTEND;TZID=America/Chicago:20240606T203000
DTSTAMP:20260423T063112
CREATED:20240306T053437Z
LAST-MODIFIED:20240606T162233Z
UID:7296-1717695000-1717705800@alamocityguards.com
SUMMARY:Tejano Memorial Statue Private Showing
DESCRIPTION:Experience a once-in-a-lifetime opportunity at the exclusive unveiling of the completed Tejano Confederate Memorial Statue\, presented by the esteemed Alamo City Guards Camp 1325. Save the date for June 6th\, from 5:30 to 8:30\, at One True Light Ministries\, 9200 Broadway Suite 131\, San Antonio\, Texas 78213. Entrance is available via donation\, with a suggested contribution of $10. Arrive early to indulge in complimentary hors d’oeuvres and beverages. Seize the moment and be part of history in the making!
URL:https://alamocityguards.com/event/tejano-memorial-statue-private-showing/
LOCATION:One True Light Ministries\, 9200 Broadway #131\, San Antonio\, TX\, 78217\, United States
CATEGORIES:FeatureEvent1,Social Event,Tejano Memorial Statue
ATTACH;FMTTYPE=image/jpeg:https://alamocityguards.com/wp-content/uploads/2024/03/tejano_memorial_statue_unveiling.jpg
END:VEVENT
BEGIN:VEVENT
DTSTART;TZID=America/Chicago:20250401T180000
DTEND;TZID=America/Chicago:20250401T203000
DTSTAMP:20260423T063112
CREATED:20250320T172600Z
LAST-MODIFIED:20250320T175900Z
UID:9034-1743530400-1743539400@alamocityguards.com
SUMMARY:Alamo City Guards Day
DESCRIPTION:It’s official—the Mayor has proclaimed April 1st\, 2025\, as Alamo City Guards Day! No\, this isn’t an April Fools’ joke (we triple-checked). To celebrate this historic recognition\, we’re gathering at Pinkerton’s Barbecue for an evening of great food\, good company\, and a whole lot of laughter. \nExpect: \n\nLegendary brisket\, ribs\, and maybe a little friendly sauce-stain competition.\nTales of heroism (some more exaggerated than others).\nThat classic Post-BBQ Food Coma—a time-honored tradition.\n\nHeads up: This is a casual\, come-as-you-are gathering\, so just bring your appetite and settle up with the fine folks at Pinkerton’s when you order. \nRSVP by March 29th so we can let them know how many hungry history buffs to expect. \nSee y’all there!
URL:https://alamocityguards.com/event/alamo-city-guards-day/
LOCATION:Pinkerton’s Barbecue\, 107 W Houston St\, San Antonio\, TX\, 78205\, United States
CATEGORIES:Social Event
ATTACH;FMTTYPE=image/webp:https://alamocityguards.com/wp-content/uploads/2025/03/DALL·E-2025-03-20-12.15.48-A-majestic-Southern-themed-image-featuring-the-Alamo-under-a-twilight-sky-symbolizing-heritage-and-resilience.-Above-a-glowing-Confederate-Battle-Fl.webp
END:VEVENT
END:VCALENDAR