BEGIN:VCALENDAR
VERSION:2.0
PRODID:-//Alamo City Guards Camp #1325 - ECPv5.8.0//NONSGML v1.0//EN
CALSCALE:GREGORIAN
METHOD:PUBLISH
X-WR-CALNAME:Alamo City Guards Camp #1325
X-ORIGINAL-URL:https://alamocityguards.com
X-WR-CALDESC:Events for Alamo City Guards Camp #1325
BEGIN:VTIMEZONE
TZID:America/Chicago
BEGIN:DAYLIGHT
TZOFFSETFROM:-0600
TZOFFSETTO:-0500
TZNAME:CDT
DTSTART:20210314T080000
END:DAYLIGHT
BEGIN:STANDARD
TZOFFSETFROM:-0500
TZOFFSETTO:-0600
TZNAME:CST
DTSTART:20211107T070000
END:STANDARD
END:VTIMEZONE
BEGIN:VEVENT
DTSTART;TZID=America/Chicago:20210630T190000
DTEND;TZID=America/Chicago:20210630T210000
DTSTAMP:20210727T060314
CREATED:20210410T190235Z
LAST-MODIFIED:20210626T044252Z
UID:2639-1625079600-1625086800@alamocityguards.com
SUMMARY:Movie Night "Yellowneck"
DESCRIPTION:5 Confederate soldiers desert\, make their way through the Everglades and try to make it to Cuba. \nDirector:\nR. John Hugh \nStarring:\nLin McCarthy\nStephen Courtleigh\nBerry Kroeger
URL:https://alamocityguards.com/event/movie-night-yellowneck/
LOCATION:Facebook
CATEGORIES:FeatureEvent1,Social Event
ATTACH;FMTTYPE=image/png:https://alamocityguards.com/wp-content/uploads/2021/04/Yellowneck-Poster16-9.png
END:VEVENT
BEGIN:VEVENT
DTSTART;TZID=America/Chicago:20210701T180000
DTEND;TZID=America/Chicago:20210701T210000
DTSTAMP:20210727T060314
CREATED:20210626T042702Z
LAST-MODIFIED:20210626T042702Z
UID:2876-1625162400-1625173200@alamocityguards.com
SUMMARY:Monthly Camp Meeting
DESCRIPTION:Our presenter will be Chris Naugton speaking about August Siemering and The Siemering Lodge.
URL:https://alamocityguards.com/event/monthly-camp-meeting/
LOCATION:La Fonda Alamo Heights\, 8633 Crownhill Blvd\, San Antonio\, TX\, 78209\, United States
CATEGORIES:Camp Meeting
ATTACH;FMTTYPE=image/jpeg:https://alamocityguards.com/wp-content/uploads/2020/06/Confederate_Rebel_Flag.jpg-Comp-1.jpg
END:VEVENT
END:VCALENDAR