BEGIN:VCALENDAR
VERSION:2.0
PRODID:-//Alamo City Guards Camp #1325 - ECPv6.15.17.1//NONSGML v1.0//EN
CALSCALE:GREGORIAN
METHOD:PUBLISH
X-ORIGINAL-URL:https://alamocityguards.com
X-WR-CALDESC:Events for Alamo City Guards Camp #1325
REFRESH-INTERVAL;VALUE=DURATION:PT1H
X-Robots-Tag:noindex
X-PUBLISHED-TTL:PT1H
BEGIN:VTIMEZONE
TZID:America/Chicago
BEGIN:DAYLIGHT
TZOFFSETFROM:-0600
TZOFFSETTO:-0500
TZNAME:CDT
DTSTART:20230312T080000
END:DAYLIGHT
BEGIN:STANDARD
TZOFFSETFROM:-0500
TZOFFSETTO:-0600
TZNAME:CST
DTSTART:20231105T070000
END:STANDARD
BEGIN:DAYLIGHT
TZOFFSETFROM:-0600
TZOFFSETTO:-0500
TZNAME:CDT
DTSTART:20240310T080000
END:DAYLIGHT
BEGIN:STANDARD
TZOFFSETFROM:-0500
TZOFFSETTO:-0600
TZNAME:CST
DTSTART:20241103T070000
END:STANDARD
BEGIN:DAYLIGHT
TZOFFSETFROM:-0600
TZOFFSETTO:-0500
TZNAME:CDT
DTSTART:20250309T080000
END:DAYLIGHT
BEGIN:STANDARD
TZOFFSETFROM:-0500
TZOFFSETTO:-0600
TZNAME:CST
DTSTART:20251102T070000
END:STANDARD
END:VTIMEZONE
BEGIN:VEVENT
DTSTART;TZID=America/Chicago:20240905T180000
DTEND;TZID=America/Chicago:20240905T210000
DTSTAMP:20260422T191315
CREATED:20240124T071947Z
LAST-MODIFIED:20240831T053841Z
UID:7261-1725559200-1725570000@alamocityguards.com
SUMMARY:Camp Meeting September 2024: BOOK SWAP - Speaker: Edwin Walker
DESCRIPTION:Calling all history buffs! Dust off those Civil War books and bring one to swap with a fellow enthusiast. Who knows\, you might leave with a new favorite!\n\n6:00 PM – Grab a delicious burger\, meet\, and mingle!7:00 PM – Let the meeting (and the fun) begin!\n\nGuest Speaker: To be announced – stay tuned for who’s on deck!
URL:https://alamocityguards.com/event/camp-meeting-september-2024/
LOCATION:Chester’s Hamburgers\, 1006 NE Interstate 410 Loop\, San Antonio\, TX\, 78209\, United States
CATEGORIES:Camp Meeting
ATTACH;FMTTYPE=image/jpeg:https://alamocityguards.com/wp-content/uploads/2024/01/cover_photo.jpg
END:VEVENT
BEGIN:VEVENT
DTSTART;TZID=America/Chicago:20240911T180000
DTEND;TZID=America/Chicago:20240911T220000
DTSTAMP:20260422T191315
CREATED:20240819T011815Z
LAST-MODIFIED:20240906T204202Z
UID:8112-1726077600-1726092000@alamocityguards.com
SUMMARY:The Costume Curse - 48 Hour Film Project Premiere
DESCRIPTION:The Alamo City Guards proudly presents our entry into the 48 Hour Film Project: “The Costume Curse”. \n📅 Date: September 11th\n🕕 Time: 6:00 PM\n📍 Location: Brick at Blue Star\n108 Blue Star San Antonio\, TX 78204 \nWe invite everyone to attend the screenings and judging. Your presence is crucial as there is an audience award up for grabs\, and we need your support to win it! \nCome and enjoy an evening of creativity and community spirit. Let’s make this event a memorable one together! \nTICKETS ON SALE NOW – $17 – GET YOUR TICKETS NOW! \n 
URL:https://alamocityguards.com/event/the-costume-curse-48-hour-film-project-premiere/
LOCATION:Brick at Blue Star Arts Complex\, 108 Blue Star\, San Antonio\, TX\, 78204\, United States
CATEGORIES:Movie Night
ATTACH;FMTTYPE=image/jpeg:https://alamocityguards.com/wp-content/uploads/2024/08/tcc_banner.jpg
ORGANIZER;CN="48 Hour Film Project":MAILTO:info@48hourfilm.com
END:VEVENT
END:VCALENDAR