BEGIN:VCALENDAR
VERSION:2.0
PRODID:-//Alamo City Guards Camp #1325 - ECPv6.15.17.1//NONSGML v1.0//EN
CALSCALE:GREGORIAN
METHOD:PUBLISH
X-ORIGINAL-URL:https://alamocityguards.com
X-WR-CALDESC:Events for Alamo City Guards Camp #1325
REFRESH-INTERVAL;VALUE=DURATION:PT1H
X-Robots-Tag:noindex
X-PUBLISHED-TTL:PT1H
BEGIN:VTIMEZONE
TZID:America/Chicago
BEGIN:DAYLIGHT
TZOFFSETFROM:-0600
TZOFFSETTO:-0500
TZNAME:CDT
DTSTART:20230312T080000
END:DAYLIGHT
BEGIN:STANDARD
TZOFFSETFROM:-0500
TZOFFSETTO:-0600
TZNAME:CST
DTSTART:20231105T070000
END:STANDARD
BEGIN:DAYLIGHT
TZOFFSETFROM:-0600
TZOFFSETTO:-0500
TZNAME:CDT
DTSTART:20240310T080000
END:DAYLIGHT
BEGIN:STANDARD
TZOFFSETFROM:-0500
TZOFFSETTO:-0600
TZNAME:CST
DTSTART:20241103T070000
END:STANDARD
BEGIN:DAYLIGHT
TZOFFSETFROM:-0600
TZOFFSETTO:-0500
TZNAME:CDT
DTSTART:20250309T080000
END:DAYLIGHT
BEGIN:STANDARD
TZOFFSETFROM:-0500
TZOFFSETTO:-0600
TZNAME:CST
DTSTART:20251102T070000
END:STANDARD
END:VTIMEZONE
BEGIN:VEVENT
DTSTART;TZID=America/Chicago:20241107T180000
DTEND;TZID=America/Chicago:20241107T210000
DTSTAMP:20260422T155949
CREATED:20240124T072258Z
LAST-MODIFIED:20241101T235513Z
UID:7265-1731002400-1731013200@alamocityguards.com
SUMMARY:Camp Meeting November 2024: Rita Schimpff
DESCRIPTION:Coming up is our meeting before the big day\, and by big day\, we mean our Confederate Tejano Memorial Statue Dedication Ceremony. \nIf you haven’t seen our previous communication about the statue\, please visit this page. \nThis is also our meeting before elections. Hopefully you’ve thought about your nominations for our next year officers because we’ll seeking them this November 10th. \nWHEN: \nThursday\, November 7th. \n6:00 PM – Grab a delicious burger\, meet\, and mingle! \n7:00 PM – Let the meeting (and the fun) begin! \nSpeaker: Rita Schimpff – Wreaths Across America \nWHERE:\nChesters Hamburgers\n1006 NE Interstate 410 Loop\, San Antonio\, TX 78209 \nLooking foward to seeing y’all there!
URL:https://alamocityguards.com/event/camp-meeting-november-2024/
LOCATION:Chester’s Hamburgers\, 1006 NE Interstate 410 Loop\, San Antonio\, TX\, 78209\, United States
CATEGORIES:Camp Meeting
ATTACH;FMTTYPE=image/jpeg:https://alamocityguards.com/wp-content/uploads/2020/06/Confederate_Rebel_Flag.jpg-Comp-1.jpg
END:VEVENT
BEGIN:VEVENT
DTSTART;TZID=America/Chicago:20241110T140000
DTEND;TZID=America/Chicago:20241110T170000
DTSTAMP:20260422T155949
CREATED:20240914T030118Z
LAST-MODIFIED:20240914T030118Z
UID:8511-1731247200-1731258000@alamocityguards.com
SUMMARY:Confederate Tejano Memorial Statue Dedication Ceremony
DESCRIPTION:Experience history come to life! Witness the grand unveiling of the world’s FIRST Tejano Confederate Memorial Statue on November 10th\, 3 pm\, at the Ruiz-Herrera Cemetery\, Von Ormy\, Texas. Brought to you by the iconic Alamo City Guards Camp 1325\, the oldest\, continually active SCV camp in the Alamo City. Be there for a momentous event that will leave you in awe! \n  \nFollow Quesenberry Rd. Driveway will be staked with a flag.
URL:https://alamocityguards.com/event/confederate-tejano-memorial-statue-dedication-ceremony/
LOCATION:Ruiz-Herrera Cemetery\, Quesenberry Rd\, Von Ormy\, TX\, 78073\, United States
CATEGORIES:Tejano Memorial Statue
ATTACH;FMTTYPE=image/jpeg:https://alamocityguards.com/wp-content/uploads/2024/09/statue_dedication_artwork.jpg
END:VEVENT
END:VCALENDAR